BEGIN:VCALENDAR
VERSION:2.0
PRODID:-//americanveteransheritage.org//NONSGML kigkonsult.se iCalcreator 2
 .30.10//
CALSCALE:GREGORIAN
METHOD:PUBLISH
UID:ec9561d8-6581-4fc4-a382-be2e0c9ea411
X-WR-CALDESC:
X-WR-RELCALID:9e956ade1ab93495848c47432f10464f
X-WR-TIMEZONE:America/New_York
BEGIN:VTIMEZONE
TZID:America/New_York
BEGIN:STANDARD
TZNAME:EST
DTSTART:20241103T020000
TZOFFSETFROM:-0400
TZOFFSETTO:-0500
RDATE:20251102T020000
END:STANDARD
BEGIN:DAYLIGHT
TZNAME:EDT
DTSTART:20240310T020000
TZOFFSETFROM:-0500
TZOFFSETTO:-0400
RDATE:20250309T020000
RDATE:20260308T020000
END:DAYLIGHT
END:VTIMEZONE
BEGIN:VEVENT
UID:78f21b25-f532-4c67-9b36-148804c8d5c9
DTSTAMP:20260425T173528Z
DESCRIPTION:
DTSTART;TZID=America/New_York:20250211T090000
DTEND;TZID=America/New_York:20250211T100000
LOCATION:https://americanveteransheritage.org/what-we-do/education/
SUMMARY:Education Committee Meeting
END:VEVENT
END:VCALENDAR
