BEGIN:VCALENDAR
VERSION:2.0
PRODID:-//americanveteransheritage.org//NONSGML kigkonsult.se iCalcreator 2
 .30.10//
CALSCALE:GREGORIAN
METHOD:PUBLISH
UID:adcd92e5-967a-4c33-8c80-4d8663a9b9ce
X-WR-CALDESC:
X-WR-RELCALID:00f7b181ca23e6f6f7d6d2c653013599
X-WR-TIMEZONE:America/New_York
BEGIN:VTIMEZONE
TZID:America/New_York
BEGIN:STANDARD
TZNAME:EST
DTSTART:20231105T020000
TZOFFSETFROM:-0400
TZOFFSETTO:-0500
RDATE:20241103T020000
RDATE:20251102T020000
END:STANDARD
BEGIN:DAYLIGHT
TZNAME:EDT
DTSTART:20240310T020000
TZOFFSETFROM:-0500
TZOFFSETTO:-0400
RDATE:20250309T020000
RDATE:20260308T020000
END:DAYLIGHT
END:VTIMEZONE
BEGIN:VEVENT
UID:da70c7fd-7203-4796-9089-fdc912c3da60
DTSTAMP:20260421T081503Z
DESCRIPTION:
DTSTART;TZID=America/New_York:20241008T090000
DTEND;TZID=America/New_York:20241008T100000
LOCATION:https://americanveteransheritage.org/what-we-do/education/
SUMMARY:Education Committee Meeting
END:VEVENT
END:VCALENDAR
