BEGIN:VCALENDAR
VERSION:2.0
PRODID:-//americanveteransheritage.org//NONSGML kigkonsult.se iCalcreator 2
 .30.10//
CALSCALE:GREGORIAN
METHOD:PUBLISH
UID:84552eaa-3357-4d8f-8268-1b62ca74b950
X-WR-CALDESC:THIS EVENT IS POSTPONED\nJoin us for an historic event\, unvei
 ling this new statue that will honor the legacy of President Lincoln‘s pro
 mise to care for those who served in our nations military\, and for their 
 families\, caregivers and survivors. Located on the Dayton VA Campus at th
 e corner of Kentucky Ave. and Ohio Ave.
X-WR-RELCALID:2dd54408dd11f004636474bbdde8379a
X-WR-TIMEZONE:America/New_York
BEGIN:VTIMEZONE
TZID:America/New_York
BEGIN:STANDARD
TZNAME:EST
DTSTART:20231105T020000
TZOFFSETFROM:-0400
TZOFFSETTO:-0500
RDATE:20241103T020000
RDATE:20251102T020000
END:STANDARD
BEGIN:DAYLIGHT
TZNAME:EDT
DTSTART:20240310T020000
TZOFFSETFROM:-0500
TZOFFSETTO:-0400
RDATE:20250309T020000
END:DAYLIGHT
END:VTIMEZONE
BEGIN:VEVENT
UID:13552ab8-f6e1-481d-aceb-ce37ee7c6088
DTSTAMP:20260419T150432Z
DESCRIPTION:THIS EVENT IS POSTPONED\nJoin us for an historic event\, unveil
 ing this new statue that will honor the legacy of President Lincoln‘s prom
 ise to care for those who served in our nations military\, and for their f
 amilies\, caregivers and survivors. Located on the Dayton VA Campus at the
  corner of Kentucky Ave. and Ohio Ave.
DTSTART;TZID=America/New_York:20240522T060000
DTEND;TZID=America/New_York:20240522T060001
LOCATION:Dayton VA Medical Center Campus\, 4100 W. 3rd St.\, Corner of Kent
 ucky Ave. & Ohio Ave.\, Dayton\, OH 45428 US
SUMMARY:POSTPONED President Abraham Lincoln Statue Unveiling Ceremony
END:VEVENT
END:VCALENDAR
