BEGIN:VCALENDAR
VERSION:2.0
PRODID:-//americanveteransheritage.org//NONSGML kigkonsult.se iCalcreator 2
 .30.10//
CALSCALE:GREGORIAN
METHOD:PUBLISH
UID:c0c96975-e107-4baa-882d-dc19bc82fad6
X-WR-CALDESC:
X-WR-RELCALID:0e0d660611bdc1fe60b58bf5363f7208
X-WR-TIMEZONE:America/New_York
BEGIN:VTIMEZONE
TZID:America/New_York
BEGIN:STANDARD
TZNAME:EST
DTSTART:20231105T020000
TZOFFSETFROM:-0400
TZOFFSETTO:-0500
RDATE:20241103T020000
RDATE:20251102T020000
END:STANDARD
BEGIN:DAYLIGHT
TZNAME:EDT
DTSTART:20240310T020000
TZOFFSETFROM:-0500
TZOFFSETTO:-0400
RDATE:20250309T020000
END:DAYLIGHT
END:VTIMEZONE
BEGIN:VEVENT
UID:e2388962-0699-4607-89a8-9d4063dc2e9c
DTSTAMP:20260419T144549Z
DESCRIPTION:
DTSTART;TZID=America/New_York:20240514T090000
DTEND;TZID=America/New_York:20240514T100000
LOCATION:https://americanveteransheritage.org/what-we-do/education/
SUMMARY:Education Committee Meeting
END:VEVENT
END:VCALENDAR
