BEGIN:VCALENDAR
VERSION:2.0
PRODID:-//americanveteransheritage.org//NONSGML kigkonsult.se iCalcreator 2
 .30.10//
CALSCALE:GREGORIAN
METHOD:PUBLISH
UID:2a7b9c4d-e5ea-4c1b-acc0-f191cf6148da
X-WR-CALDESC:Zoom Meeting
X-WR-RELCALID:b0822648c968369b0daa1bfe32f6b6df
X-WR-TIMEZONE:America/New_York
BEGIN:VTIMEZONE
TZID:America/New_York
BEGIN:STANDARD
TZNAME:EST
DTSTART:20231105T020000
TZOFFSETFROM:-0400
TZOFFSETTO:-0500
RDATE:20241103T020000
END:STANDARD
BEGIN:DAYLIGHT
TZNAME:EDT
DTSTART:20240310T020000
TZOFFSETFROM:-0500
TZOFFSETTO:-0400
RDATE:20250309T020000
END:DAYLIGHT
END:VTIMEZONE
BEGIN:VEVENT
UID:9766e417-ef89-417a-8a1d-f70f839fef22
DTSTAMP:20260419T164057Z
DESCRIPTION:Zoom Meeting
DTSTART;TZID=America/New_York:20240430T180000
DTEND;TZID=America/New_York:20240430T190000
LOCATION:Zoom meeting members only
SUMMARY:Events Meeting
END:VEVENT
END:VCALENDAR
