BEGIN:VCALENDAR
VERSION:2.0
PRODID:-//americanveteransheritage.org//NONSGML kigkonsult.se iCalcreator 2
 .30.10//
CALSCALE:GREGORIAN
METHOD:PUBLISH
UID:487d6f18-33d6-4f27-afb9-ac027bcf09a9
X-WR-CALDESC:Via ZOOM
X-WR-RELCALID:fe1d660a9750b3f7a438fc09d4e3a9f7
X-WR-TIMEZONE:America/New_York
BEGIN:VTIMEZONE
TZID:America/New_York
BEGIN:STANDARD
TZNAME:EST
DTSTART:20231105T020000
TZOFFSETFROM:-0400
TZOFFSETTO:-0500
RDATE:20241103T020000
END:STANDARD
BEGIN:DAYLIGHT
TZNAME:EDT
DTSTART:20240310T020000
TZOFFSETFROM:-0500
TZOFFSETTO:-0400
RDATE:20250309T020000
END:DAYLIGHT
END:VTIMEZONE
BEGIN:VEVENT
UID:047d4140-3b7a-43c4-b678-d1af76494d3b
DTSTAMP:20260419T174400Z
DESCRIPTION:Via ZOOM
DTSTART;TZID=America/New_York:20240323T090000
DTEND;TZID=America/New_York:20240323T100000
LOCATION:
SUMMARY:Events Committee Mtg
END:VEVENT
END:VCALENDAR
