BEGIN:VCALENDAR
VERSION:2.0
PRODID:-//americanveteransheritage.org//NONSGML kigkonsult.se iCalcreator 2
 .30.10//
CALSCALE:GREGORIAN
METHOD:PUBLISH
UID:2d5e7d29-f070-498a-8105-448942d938a9
X-WR-CALDESC:
X-WR-RELCALID:cdb1f5f76841a076335e7f6d68539cd3
X-WR-TIMEZONE:America/New_York
BEGIN:VTIMEZONE
TZID:America/New_York
BEGIN:STANDARD
TZNAME:EST
DTSTART:20231105T020000
TZOFFSETFROM:-0400
TZOFFSETTO:-0500
RDATE:20241103T020000
END:STANDARD
BEGIN:DAYLIGHT
TZNAME:EDT
DTSTART:20240310T020000
TZOFFSETFROM:-0500
TZOFFSETTO:-0400
RDATE:20250309T020000
END:DAYLIGHT
END:VTIMEZONE
BEGIN:VEVENT
UID:b86c85ea-c164-4ea2-85c4-d522b72a7b06
DTSTAMP:20260419T174452Z
DESCRIPTION:
DTSTART;TZID=America/New_York:20240312T090000
DTEND;TZID=America/New_York:20240312T100000
LOCATION:https://americanveteransheritage.org/what-we-do/education/
SUMMARY:Education Committee Meeting
END:VEVENT
END:VCALENDAR
