BEGIN:VCALENDAR
VERSION:2.0
PRODID:-//americanveteransheritage.org//NONSGML kigkonsult.se iCalcreator 2
 .30.10//
CALSCALE:GREGORIAN
METHOD:PUBLISH
UID:0cae60b8-f31c-4825-9104-71bb48285b9d
X-WR-CALDESC:
X-WR-RELCALID:306277fd80ee4ad32dda10f3c582712c
X-WR-TIMEZONE:America/New_York
BEGIN:VTIMEZONE
TZID:America/New_York
BEGIN:STANDARD
TZNAME:EST
DTSTART:20231105T020000
TZOFFSETFROM:-0400
TZOFFSETTO:-0500
RDATE:20241103T020000
END:STANDARD
BEGIN:DAYLIGHT
TZNAME:EDT
DTSTART:20230312T020000
TZOFFSETFROM:-0500
TZOFFSETTO:-0400
RDATE:20240310T020000
RDATE:20250309T020000
END:DAYLIGHT
END:VTIMEZONE
BEGIN:VEVENT
UID:c912fc22-efb9-4e53-be52-13a5e6cb85a5
DTSTAMP:20260419T191031Z
DESCRIPTION:
DTSTART;TZID=America/New_York:20240213T090000
DTEND;TZID=America/New_York:20240213T100000
LOCATION:https://americanveteransheritage.org/what-we-do/education/
SUMMARY:Education Committee Meeting
END:VEVENT
END:VCALENDAR
