BEGIN:VCALENDAR
VERSION:2.0
PRODID:-//americanveteransheritage.org//NONSGML kigkonsult.se iCalcreator 2
 .30.10//
CALSCALE:GREGORIAN
METHOD:PUBLISH
UID:b30021df-1675-47e5-901c-cbec14c3ad5e
X-WR-CALDESC:Wreaths Across America is a 501(c)(3) nonprofit organization f
 ounded to continue and expand the annual wreath-laying ceremony at Arlingt
 on National Cemetery begun by Maine businessman Morrill Worcester in 1992.
  The organization’s mission – Remember\, Honor\, Teach – is carried out in
  part each year by coordinating wreath-laying ceremonies in December at Ar
 lington\, as well as at more than 2\,500 veterans’ cemeteries and other lo
 cations in all 50 states and overseas.  Find out more on the Wreaths Acros
 s America website.\n
X-WR-RELCALID:2c221c12e1a951fe7cdd8c682ad83936
X-WR-TIMEZONE:America/New_York
BEGIN:VTIMEZONE
TZID:America/New_York
BEGIN:STANDARD
TZNAME:EST
DTSTART:20211107T020000
TZOFFSETFROM:-0400
TZOFFSETTO:-0500
RDATE:20221106T020000
END:STANDARD
BEGIN:DAYLIGHT
TZNAME:EDT
DTSTART:20210314T020000
TZOFFSETFROM:-0500
TZOFFSETTO:-0400
RDATE:20220313T020000
RDATE:20230312T020000
END:DAYLIGHT
END:VTIMEZONE
BEGIN:VEVENT
UID:87095a88-1d0d-4f75-b327-3e6a38c7fac8
DTSTAMP:20260423T070719Z
DESCRIPTION:Wreaths Across America is a 501(c)(3) nonprofit organization fo
 unded to continue and expand the annual wreath-laying ceremony at Arlingto
 n National Cemetery begun by Maine businessman Morrill Worcester in 1992. 
 The organization’s mission – Remember\, Honor\, Teach – is carried out in 
 part each year by coordinating wreath-laying ceremonies in December at Arl
 ington\, as well as at more than 2\,500 veterans’ cemeteries and other loc
 ations in all 50 states and overseas.  Find out more on the Wreaths Across
  America website.\n
DTSTART;TZID=America/New_York:20211218T000000
DTEND;TZID=America/New_York:20211218T235900
LOCATION:Dayton National Cemetery\, 4400 West Third St\, Dayton\, Ohio 4541
 7\, Dayton\, OH 45417 US
SUMMARY:National Wreaths Across America Day
END:VEVENT
END:VCALENDAR
